BEGIN:VCALENDAR
VERSION:2.0
PRODID:-//eventon.com NONSGML v1.0//EN
BEGIN:VEVENT
UID:69e73ae31760a
DTSTAMP:20260421T085251
DTSTART:20220131T220000Z
DTEND:20220131T220000Z
TZID:America/Chicago
LOCATION:
SUMMARY:DCLA Monthly Meeting (Copy)
DESCRIPTION: DCLA Monthly Meeting (Copy)\nhttps://dufferinlawyers.com/events/dcla-monthly-meeting-copy/
URL:https://dufferinlawyers.com/events/dcla-monthly-meeting-copy/
END:VEVENT
END:VCALENDAR